View In:
ArcGIS JavaScript
ArcGIS Online Map Viewer
ArcGIS Earth
ArcMap
View Footprint In:
ArcGIS Online Map Viewer
Service Description: Mosaico Distrito Federal 2011 Imagens RapidEye obtido por meio do Termo de Compromisso Corporativo de Uso das Imagens RapidEye entre TERRACAP e MMA.
Name: Mosaico_2011_WGS1984_5m_DistritoFederal
Description: Mosaico Distrito Federal 2011 Imagens RapidEye obtido por meio do Termo de Compromisso Corporativo de Uso das Imagens RapidEye entre TERRACAP e MMA.
Single Fused Map Cache: false
Extent:
XMin: -48.290135271999986
YMin: -16.055113393373507
XMax: -47.30557662013325
YMax: -15.49694229999997
Spatial Reference: 4326
(4326)
Initial Extent:
XMin: -48.290135271999986
YMin: -16.055113393373507
XMax: -47.30557662013325
YMax: -15.49694229999997
Spatial Reference: 4326
(4326)
Full Extent:
XMin: -48.290135271999986
YMin: -16.055113393373507
XMax: -47.30557662013325
YMax: -15.49694229999997
Spatial Reference: 4326
(4326)
Pixel Size X: 4.4915996891730595E-5
Pixel Size Y: 4.49159968917306E-5
Band Count: 5
Pixel Type: U16
RasterFunction Infos: {"rasterFunctionInfos": [{
"name": "None",
"description": "Uma função sem operação.",
"help": ""
}]}
Mensuration Capabilities: None
Has Histograms: true
Has Colormap: false
Has Multi Dimensions : false
Rendering Rule:
Min Scale: 0
Max Scale: 0
Copyright Text:
Service Data Type: esriImageServiceDataTypeGeneric
Min Values: 3237, 2017, 1108, 784, 357
Max Values: 56520, 55393, 51306, 52057, 39701
Mean Values: 6611.4413540639225, 6317.378093123832, 6193.703060786612, 6185.515167195264, 7014.622626748553
Standard Deviation Values: 1393.4884720848734, 1925.7455026401203, 2781.302165282561, 2322.4756232819127, 2212.0247407003317
Object ID Field: OBJECTID
Fields:
-
OBJECTID
(
type: esriFieldTypeOID, alias: OBJECTID
)
-
Shape
(
type: esriFieldTypeGeometry, alias: Shape
)
-
Name
(
type: esriFieldTypeString, alias: Name, length: 200
)
-
MinPS
(
type: esriFieldTypeDouble, alias: MinPS
)
-
MaxPS
(
type: esriFieldTypeDouble, alias: MaxPS
)
-
LowPS
(
type: esriFieldTypeDouble, alias: LowPS
)
-
HighPS
(
type: esriFieldTypeDouble, alias: HighPS
)
-
Category
(
type: esriFieldTypeInteger, alias: Category
, Coded Values:
[0: Unknown]
, [1: Primary]
, [2: Overview]
, ...6 more...
)
-
Tag
(
type: esriFieldTypeString, alias: Tag, length: 100
)
-
GroupName
(
type: esriFieldTypeString, alias: GroupName, length: 100
)
-
ProductName
(
type: esriFieldTypeString, alias: ProductName, length: 100
)
-
CenterX
(
type: esriFieldTypeDouble, alias: CenterX
)
-
CenterY
(
type: esriFieldTypeDouble, alias: CenterY
)
-
ZOrder
(
type: esriFieldTypeInteger, alias: ZOrder
)
-
Shape_Length
(
type: esriFieldTypeDouble, alias: Shape_Length
)
-
Shape_Area
(
type: esriFieldTypeDouble, alias: Shape_Area
)
Default Mosaic Method: Northwest
Allowed Mosaic Methods: NorthWest,Center,LockRaster,ByAttribute,Nadir,Viewpoint,Seamline,None
SortField:
SortValue: null
Mosaic Operator: First
Default Compression Quality: 75
Default Resampling Method: Bilinear
Max Record Count: 1000
Max Image Height: 4100
Max Image Width: 15000
Max Download Image Count: 20
Max Mosaic Image Count: 20
Allow Raster Function: true
Allow Copy: null
Allow Analysis: null
Allow Compute TiePoints: false
Supports Statistics: true
Supports Advanced Queries: true
Use StandardizedQueries: true
Raster Type Infos:
Name: Raster Dataset
Description: Supports all ArcGIS Raster Datasets
Help:
Has Raster Attribute Table: false
Edit Fields Info: null
Ownership Based AccessControl For Rasters: null
Child Resources:
Info
Histograms
Key Properties
Legend
Raster Function Infos
Supported Operations:
Export Image
Query
Identify
Compute Histograms
Compute Statistics Histograms
Get Samples
Compute Class Statistics
Query Boundary
Compute Pixel Location
Validate
Project