View In:
ArcGIS JavaScript
ArcGIS Online Map Viewer
ArcGIS Earth
ArcMap
View Footprint In:
ArcGIS Online Map Viewer
Service Description: Mosaico 2010
Name: Mosaico_2010_SIRGAS_50cm_WorldView2_Noroeste
Description: Mosaico 2010
Single Fused Map Cache: false
Extent:
XMin: 186110.20186694886
YMin: 8253808.866402471
XMax: 189991.20186694886
YMax: 8260878.866402471
Spatial Reference: 31983
(31983)
Initial Extent:
XMin: 186110.20186694886
YMin: 8253808.866402471
XMax: 189991.20186694886
YMax: 8260878.866402471
Spatial Reference: 31983
(31983)
Full Extent:
XMin: 186110.20186694886
YMin: 8253808.866402471
XMax: 189991.20186694886
YMax: 8260878.866402471
Spatial Reference: 31983
(31983)
Pixel Size X: 0.5
Pixel Size Y: 0.5
Band Count: 3
Pixel Type: U8
RasterFunction Infos: {"rasterFunctionInfos": [{
"name": "None",
"description": "",
"help": ""
}]}
Mensuration Capabilities: None
Has Histograms: true
Has Colormap: false
Has Multi Dimensions : false
Rendering Rule:
Min Scale: 0
Max Scale: 0
Copyright Text:
Service Data Type: esriImageServiceDataTypeRGB
Min Values: 0, 0, 0
Max Values: 254, 254, 254
Mean Values: 72.830913607812, 78.47299012848072, 74.0258651257448
Standard Deviation Values: 40.63876673896932, 38.88349372624968, 38.6169887933772
Object ID Field: OBJECTID
Fields:
-
OBJECTID
(
type: esriFieldTypeOID, alias: OBJECTID
)
-
Shape
(
type: esriFieldTypeGeometry, alias: Shape
)
-
Name
(
type: esriFieldTypeString, alias: Name, length: 200
)
-
MinPS
(
type: esriFieldTypeDouble, alias: MinPS
)
-
MaxPS
(
type: esriFieldTypeDouble, alias: MaxPS
)
-
LowPS
(
type: esriFieldTypeDouble, alias: LowPS
)
-
HighPS
(
type: esriFieldTypeDouble, alias: HighPS
)
-
Category
(
type: esriFieldTypeInteger, alias: Category
, Coded Values:
[0: Unknown]
, [1: Primary]
, [2: Overview]
, ...6 more...
)
-
Tag
(
type: esriFieldTypeString, alias: Tag, length: 100
)
-
GroupName
(
type: esriFieldTypeString, alias: GroupName, length: 100
)
-
ProductName
(
type: esriFieldTypeString, alias: ProductName, length: 100
)
-
CenterX
(
type: esriFieldTypeDouble, alias: CenterX
)
-
CenterY
(
type: esriFieldTypeDouble, alias: CenterY
)
-
ZOrder
(
type: esriFieldTypeInteger, alias: ZOrder
)
-
Shape_Length
(
type: esriFieldTypeDouble, alias: Shape_Length
)
-
Shape_Area
(
type: esriFieldTypeDouble, alias: Shape_Area
)
-
Ano
(
type: esriFieldTypeSmallInteger, alias: Ano
)
-
Sistema
(
type: esriFieldTypeString, alias: Sistema, length: 50
)
-
Datum
(
type: esriFieldTypeString, alias: Datum, length: 50
)
-
Articulacao
(
type: esriFieldTypeString, alias: Articulacao, length: 50
)
-
Resolucao
(
type: esriFieldTypeString, alias: Resolucao, length: 50
)
-
Sensor
(
type: esriFieldTypeString, alias: Sensor, length: 50
)
-
Abrangencia
(
type: esriFieldTypeString, alias: Abrangencia, length: 50
)
Default Mosaic Method: Northwest
Allowed Mosaic Methods: NorthWest,Center,LockRaster,ByAttribute,Nadir,Viewpoint,Seamline,None
SortField:
SortValue: null
Mosaic Operator: First
Default Compression Quality: 75
Default Resampling Method: Bilinear
Max Record Count: 1000
Max Image Height: 4100
Max Image Width: 15000
Max Download Image Count: 20
Max Mosaic Image Count: 20
Allow Raster Function: true
Allow Copy: null
Allow Analysis: null
Allow Compute TiePoints: false
Supports Statistics: true
Supports Advanced Queries: true
Use StandardizedQueries: true
Raster Type Infos:
Name: Image Service
Description: Supports ArcGIS image service
Help:
Name: WMS
Description: Allows a WMS (Web Map Service) layer to be consumed as a raster dataset.
Help:
Name: Map Service
Description: Supports ArcGIS map service
Help:
Name: Raster Dataset
Description: Supports all ArcGIS Raster Datasets
Help:
Has Raster Attribute Table: false
Edit Fields Info: null
Ownership Based AccessControl For Rasters: null
Child Resources:
Info
Histograms
Key Properties
Legend
Raster Function Infos
Supported Operations:
Export Image
Query
Identify
Compute Histograms
Compute Statistics Histograms
Get Samples
Compute Class Statistics
Query Boundary
Compute Pixel Location
Validate
Project