View In:
ArcGIS JavaScript
ArcGIS Online Map Viewer
ArcGIS Earth
ArcMap
View Footprint In:
ArcGIS Online Map Viewer
Service Description: Mosaico 2009
Name: Mosaico_2009_SIRGAS_10k_1m_UltraCam_DistritoFederal
Description: Mosaico 2009
Single Fused Map Cache: false
Extent:
XMin: 145829.56896551725
YMin: 8218992.394210302
XMax: 255723.8718603661
YMax: 8288994.943167306
Spatial Reference: 31983
(31983)
Initial Extent:
XMin: 145829.56896551725
YMin: 8218992.394210302
XMax: 255723.8718603661
YMax: 8288994.943167306
Spatial Reference: 31983
(31983)
Full Extent:
XMin: 145829.56896551725
YMin: 8218992.394210302
XMax: 255723.8718603661
YMax: 8288994.943167306
Spatial Reference: 31983
(31983)
Pixel Size X: 0.9998935717326521
Pixel Size Y: 0.9998935717326565
Band Count: 3
Pixel Type: U8
RasterFunction Infos: {"rasterFunctionInfos": [{
"name": "None",
"description": "A No-Op Function.",
"help": ""
}]}
Mensuration Capabilities:
Has Histograms: true
Has Colormap: false
Has Multi Dimensions : false
Rendering Rule:
Min Scale: 0
Max Scale: 0
Copyright Text:
Service Data Type: esriImageServiceDataTypeProcessed
Min Values: 0, 1, 17
Max Values: 255, 255, 255
Mean Values: 137.04961454018994, 136.31200354575188, 123.8151678489457
Standard Deviation Values: 36.789189781574, 32.55301674848566, 34.868216406847445
Object ID Field: OBJECTID
Fields:
-
OBJECTID
(
type: esriFieldTypeOID, alias: OBJECTID
)
-
Shape
(
type: esriFieldTypeGeometry, alias: Shape
)
-
Name
(
type: esriFieldTypeString, alias: Name, length: 200
)
-
MinPS
(
type: esriFieldTypeDouble, alias: MinPS
)
-
MaxPS
(
type: esriFieldTypeDouble, alias: MaxPS
)
-
LowPS
(
type: esriFieldTypeDouble, alias: LowPS
)
-
HighPS
(
type: esriFieldTypeDouble, alias: HighPS
)
-
Category
(
type: esriFieldTypeInteger, alias: Category
, Coded Values:
[0: Unknown]
, [1: Primary]
, [2: Overview]
, ...6 more...
)
-
Tag
(
type: esriFieldTypeString, alias: Tag, length: 100
)
-
GroupName
(
type: esriFieldTypeString, alias: GroupName, length: 100
)
-
ProductName
(
type: esriFieldTypeString, alias: ProductName, length: 100
)
-
CenterX
(
type: esriFieldTypeDouble, alias: CenterX
)
-
CenterY
(
type: esriFieldTypeDouble, alias: CenterY
)
-
ZOrder
(
type: esriFieldTypeInteger, alias: ZOrder
)
-
Shape_Length
(
type: esriFieldTypeDouble, alias: Shape_Length
)
-
Shape_Area
(
type: esriFieldTypeDouble, alias: Shape_Area
)
-
Ano
(
type: esriFieldTypeSmallInteger, alias: Ano
)
-
Sistema
(
type: esriFieldTypeString, alias: Sistema, length: 50
)
-
Datum
(
type: esriFieldTypeString, alias: Datum, length: 50
)
-
Articulacao
(
type: esriFieldTypeString, alias: Articulacao, length: 50
)
-
Resolucao
(
type: esriFieldTypeString, alias: Resolucao, length: 50
)
-
Sensor
(
type: esriFieldTypeString, alias: Sensor, length: 50
)
-
Abrangencia
(
type: esriFieldTypeString, alias: Abrangencia, length: 50
)
Default Mosaic Method: Northwest
Allowed Mosaic Methods: NorthWest,Center,LockRaster,ByAttribute,Nadir,Viewpoint,Seamline,None
SortField:
SortValue: null
Mosaic Operator: First
Default Compression Quality: 75
Default Resampling Method: Bilinear
Max Record Count: 1000
Max Image Height: 4100
Max Image Width: 15000
Max Download Image Count: 20
Max Mosaic Image Count: 20
Allow Raster Function: true
Allow Copy: null
Allow Analysis: null
Allow Compute TiePoints: false
Supports Statistics: true
Supports Advanced Queries: true
Use StandardizedQueries: true
Raster Type Infos:
Name: Image Service
Description: Supports ArcGIS image service
Help:
Name: WMS
Description: Allows a WMS (Web Map Service) layer to be consumed as a raster dataset.
Help:
Name: Map Service
Description: Supports ArcGIS map service
Help:
Name: Raster Dataset
Description: Supports all ArcGIS Raster Datasets
Help:
Has Raster Attribute Table: false
Edit Fields Info: null
Ownership Based AccessControl For Rasters: null
Child Resources:
Info
Histograms
Key Properties
Legend
Raster Function Infos
Supported Operations:
Export Image
Query
Identify
Compute Histograms
Compute Statistics Histograms
Get Samples
Compute Class Statistics
Query Boundary
Compute Pixel Location
Validate
Project