View In:
ArcGIS JavaScript
ArcGIS Online Map Viewer
ArcGIS Earth
ArcMap
View Footprint In:
ArcGIS Online Map Viewer
Service Description: Mosaico 2007
Name: Mosaico_2007_WGS1984_10k_60cm_GeoEye_AreasUrbanas
Description: Mosaico 2007
Single Fused Map Cache: false
Extent:
XMin: 155275.7876193539
YMin: 8228384.35705981
XMax: 205172.9876191779
YMax: 8279860.757059629
Spatial Reference: 32723
(32723)
Initial Extent:
XMin: 155275.7876193539
YMin: 8228384.35705981
XMax: 205172.9876191779
YMax: 8279860.757059629
Spatial Reference: 32723
(32723)
Full Extent:
XMin: 155275.7876193539
YMin: 8228384.35705981
XMax: 205172.9876191779
YMax: 8279860.757059629
Spatial Reference: 32723
(32723)
Pixel Size X: 0.5999999999978836
Pixel Size Y: 0.5999999999978876
Band Count: 3
Pixel Type: U8
RasterFunction Infos: {"rasterFunctionInfos": [{
"name": "None",
"description": "A No-Op Function.",
"help": ""
}]}
Mensuration Capabilities: None
Has Histograms: true
Has Colormap: false
Has Multi Dimensions : false
Rendering Rule:
Min Scale: 0
Max Scale: 0
Copyright Text:
Service Data Type: esriImageServiceDataTypeRGB
Min Values: 0, 9, 6
Max Values: 255, 255, 255
Mean Values: 97.57511999566523, 93.4458539013891, 84.4621544415946
Standard Deviation Values: 38.409291145687156, 29.111716938291348, 26.232535270587164
Object ID Field: OBJECTID
Fields:
-
OBJECTID
(
type: esriFieldTypeOID, alias: OBJECTID
)
-
Shape
(
type: esriFieldTypeGeometry, alias: Shape
)
-
Name
(
type: esriFieldTypeString, alias: Name, length: 200
)
-
MinPS
(
type: esriFieldTypeDouble, alias: MinPS
)
-
MaxPS
(
type: esriFieldTypeDouble, alias: MaxPS
)
-
LowPS
(
type: esriFieldTypeDouble, alias: LowPS
)
-
HighPS
(
type: esriFieldTypeDouble, alias: HighPS
)
-
Category
(
type: esriFieldTypeInteger, alias: Category
, Coded Values:
[0: Unknown]
, [1: Primary]
, [2: Overview]
, ...6 more...
)
-
Tag
(
type: esriFieldTypeString, alias: Tag, length: 100
)
-
GroupName
(
type: esriFieldTypeString, alias: GroupName, length: 100
)
-
ProductName
(
type: esriFieldTypeString, alias: ProductName, length: 100
)
-
CenterX
(
type: esriFieldTypeDouble, alias: CenterX
)
-
CenterY
(
type: esriFieldTypeDouble, alias: CenterY
)
-
ZOrder
(
type: esriFieldTypeInteger, alias: ZOrder
)
-
Shape_Length
(
type: esriFieldTypeDouble, alias: Shape_Length
)
-
Shape_Area
(
type: esriFieldTypeDouble, alias: Shape_Area
)
-
Ano
(
type: esriFieldTypeSmallInteger, alias: Ano
)
-
Sistema
(
type: esriFieldTypeString, alias: Sistema, length: 255
)
-
Datum
(
type: esriFieldTypeString, alias: Datum, length: 255
)
-
Articulacao
(
type: esriFieldTypeString, alias: Articulacao, length: 255
)
-
Resolucao
(
type: esriFieldTypeString, alias: Resolucao, length: 255
)
-
Sensor
(
type: esriFieldTypeString, alias: Sensor, length: 255
)
-
Abrangencia
(
type: esriFieldTypeString, alias: Abrangencia, length: 255
)
Default Mosaic Method: Northwest
Allowed Mosaic Methods: NorthWest,Center,LockRaster,ByAttribute,Nadir,Viewpoint,Seamline,None
SortField:
SortValue: null
Mosaic Operator: First
Default Compression Quality: 75
Default Resampling Method: Bilinear
Max Record Count: 1000
Max Image Height: 4100
Max Image Width: 15000
Max Download Image Count: 20
Max Mosaic Image Count: 20
Allow Raster Function: true
Allow Copy: null
Allow Analysis: null
Allow Compute TiePoints: false
Supports Statistics: true
Supports Advanced Queries: true
Use StandardizedQueries: true
Raster Type Infos:
Name: Image Service
Description: Supports ArcGIS image service
Help:
Name: WMS
Description: Allows a WMS (Web Map Service) layer to be consumed as a raster dataset.
Help:
Name: Map Service
Description: Supports ArcGIS map service
Help:
Name: Raster Dataset
Description: Supports all ArcGIS Raster Datasets
Help:
Has Raster Attribute Table: false
Edit Fields Info: null
Ownership Based AccessControl For Rasters: null
Child Resources:
Info
Histograms
Key Properties
Legend
Raster Function Infos
Supported Operations:
Export Image
Query
Identify
Compute Histograms
Compute Statistics Histograms
Get Samples
Compute Class Statistics
Query Boundary
Compute Pixel Location
Validate
Project