{
 "currentVersion": 10.81,
 "serviceDescription": "Mosaicos de fotografias aéreas e imagens de satélite adquiridas entre 1964 e 2016 do Distrito Federal",
 "name": "_Mosaico_Mestre_TERRACAP",
 "description": "Mosaicos de fotografias aéreas e imagens de satélite adquiridas entre 1964 e 2016 do Distrito Federal",
 "extent": {
  "xmin": 135168.90911317524,
  "ymin": 8196295.193925255,
  "xmax": 267621.186722829,
  "ymax": 8294181.3637254685,
  "spatialReference": {
   "wkid": 31983,
   "latestWkid": 31983
  }
 },
 "initialExtent": {
  "xmin": 135168.90911317524,
  "ymin": 8196295.193925255,
  "xmax": 267621.186722829,
  "ymax": 8294181.3637254685,
  "spatialReference": {
   "wkid": 31983,
   "latestWkid": 31983
  }
 },
 "fullExtent": {
  "xmin": 135168.90911317524,
  "ymin": 8196295.193925255,
  "xmax": 267621.186722829,
  "ymax": 8294181.3637254685,
  "spatialReference": {
   "wkid": 31983,
   "latestWkid": 31983
  }
 },
 "timeInfo": {
  "startTimeField": "Ano",
  "endTimeField": "Ano",
  "timeExtent": [
   -189388800000,
   1451606400000
  ],
  "timeReference": null,
  "defaultTimeInterval": 1,
  "defaultTimeIntervalUnits": "esriTimeUnitsYears"
 },
 "pixelSizeX": 0.008686200079368257,
 "pixelSizeY": 0.00868620007936826,
 "bandCount": 3,
 "pixelType": "U8",
 "minPixelSize": 0,
 "maxPixelSize": 0,
 "copyrightText": "",
 "serviceDataType": "esriImageServiceDataTypeProcessed",
 "minValues": [],
 "maxValues": [],
 "meanValues": [],
 "stdvValues": [],
 "objectIdField": "OBJECTID",
 "fields": [
  {
   "name": "OBJECTID",
   "type": "esriFieldTypeOID",
   "alias": "OBJECTID",
   "domain": null
  },
  {
   "name": "Shape",
   "type": "esriFieldTypeGeometry",
   "alias": "Shape",
   "domain": null
  },
  {
   "name": "Name",
   "type": "esriFieldTypeString",
   "alias": "Name",
   "domain": null,
   "length": 200
  },
  {
   "name": "MinPS",
   "type": "esriFieldTypeDouble",
   "alias": "MinPS",
   "domain": null
  },
  {
   "name": "MaxPS",
   "type": "esriFieldTypeDouble",
   "alias": "MaxPS",
   "domain": null
  },
  {
   "name": "LowPS",
   "type": "esriFieldTypeDouble",
   "alias": "LowPS",
   "domain": null
  },
  {
   "name": "HighPS",
   "type": "esriFieldTypeDouble",
   "alias": "HighPS",
   "domain": null
  },
  {
   "name": "Category",
   "type": "esriFieldTypeInteger",
   "alias": "Category",
   "domain": {
    "type": "codedValue",
    "name": "MosaicCatalogItemCategoryDomain",
    "description": "Catalog item categories.",
    "codedValues": [
     {
      "name": "Unknown",
      "code": 0
     },
     {
      "name": "Primary",
      "code": 1
     },
     {
      "name": "Overview",
      "code": 2
     },
     {
      "name": "Unprocessed Overview",
      "code": 3
     },
     {
      "name": "Partial Overview",
      "code": 4
     },
     {
      "name": "Inactive",
      "code": 5
     },
     {
      "name": "Uploaded",
      "code": 253
     },
     {
      "name": "Incomplete",
      "code": 254
     },
     {
      "name": "Custom",
      "code": 255
     }
    ],
    "mergePolicy": "esriMPTDefaultValue",
    "splitPolicy": "esriSPTDefaultValue"
   }
  },
  {
   "name": "Tag",
   "type": "esriFieldTypeString",
   "alias": "Tag",
   "domain": null,
   "length": 100
  },
  {
   "name": "GroupName",
   "type": "esriFieldTypeString",
   "alias": "GroupName",
   "domain": null,
   "length": 100
  },
  {
   "name": "ProductName",
   "type": "esriFieldTypeString",
   "alias": "ProductName",
   "domain": null,
   "length": 100
  },
  {
   "name": "CenterX",
   "type": "esriFieldTypeDouble",
   "alias": "CenterX",
   "domain": null
  },
  {
   "name": "CenterY",
   "type": "esriFieldTypeDouble",
   "alias": "CenterY",
   "domain": null
  },
  {
   "name": "ZOrder",
   "type": "esriFieldTypeInteger",
   "alias": "ZOrder",
   "domain": null
  },
  {
   "name": "Shape_Length",
   "type": "esriFieldTypeDouble",
   "alias": "Shape_Length",
   "domain": null
  },
  {
   "name": "Shape_Area",
   "type": "esriFieldTypeDouble",
   "alias": "Shape_Area",
   "domain": null
  },
  {
   "name": "Ano",
   "type": "esriFieldTypeSmallInteger",
   "alias": "Ano",
   "domain": null
  },
  {
   "name": "Sistema",
   "type": "esriFieldTypeString",
   "alias": "Sistema",
   "domain": null,
   "length": 255
  },
  {
   "name": "Datum",
   "type": "esriFieldTypeString",
   "alias": "Datum",
   "domain": null,
   "length": 255
  },
  {
   "name": "Articulacao",
   "type": "esriFieldTypeString",
   "alias": "Articulacao",
   "domain": null,
   "length": 255
  },
  {
   "name": "Resolucao",
   "type": "esriFieldTypeString",
   "alias": "Resolucao",
   "domain": null,
   "length": 255
  },
  {
   "name": "Sensor",
   "type": "esriFieldTypeString",
   "alias": "Sensor",
   "domain": null,
   "length": 255
  },
  {
   "name": "Abrangencia",
   "type": "esriFieldTypeString",
   "alias": "Abrangencia",
   "domain": null,
   "length": 255
  }
 ],
 "capabilities": "Catalog,Image,Metadata",
 "defaultMosaicMethod": "ByAttribute",
 "allowedMosaicMethods": "ByAttribute",
 "sortField": "Ano",
 "sortValue": "2050",
 "sortAscending": true,
 "mosaicOperator": "First",
 "maxDownloadSizeLimit": 2048,
 "defaultCompressionQuality": 75,
 "defaultResamplingMethod": "Bilinear",
 "maxImageHeight": 4100,
 "maxImageWidth": 15000,
 "maxRecordCount": 0,
 "maxDownloadImageCount": 0,
 "maxMosaicImageCount": 20,
 "allowRasterFunction": true,
 "rasterFunctionInfos": [
  {
   "name": "None",
   "description": "A No-Op Function.",
   "help": ""
  }
 ],
 "rasterTypeInfos": [
  {
   "name": "Image Service",
   "description": "Supports ArcGIS image service",
   "help": ""
  },
  {
   "name": "WMS",
   "description": "Allows a WMS (Web Map Service) layer to be consumed as a raster dataset.",
   "help": ""
  },
  {
   "name": "Map Service",
   "description": "Supports ArcGIS map service",
   "help": ""
  },
  {
   "name": "Raster Dataset",
   "description": "Supports all ArcGIS Raster Datasets",
   "help": ""
  }
 ],
 "mensurationCapabilities": "Basic",
 "hasHistograms": false,
 "hasColormap": false,
 "hasRasterAttributeTable": false,
 "minScale": 0,
 "maxScale": 0,
 "exportTilesAllowed": false,
 "hasMultidimensions": false,
 "supportsStatistics": true,
 "supportsAdvancedQueries": true,
 "editFieldsInfo": null,
 "ownershipBasedAccessControlForRasters": null,
 "allowComputeTiePoints": false,
 "useStandardizedQueries": true,
 "advancedQueryCapabilities": {
  "useStandardizedQueries": true,
  "supportsStatistics": true,
  "supportsOrderBy": true,
  "supportsDistinct": true,
  "supportsPagination": true
 },
 "spatialReference": {
  "wkid": 31983,
  "latestWkid": 31983
 }
}
