{
 "currentVersion": 10.81,
 "serviceDescription": "Imagens do satélite Skysat com 3 m de resolução",
 "name": "Basemap_2019_Skysat_v2",
 "description": "Imagens do satélite Skysat com 3 m de resolução",
 "extent": {
  "xmin": -5378213.377900001,
  "ymin": -1817964.0052000005,
  "xmax": -5257904.377900001,
  "ymax": -1736574.0052000005,
  "spatialReference": {
   "wkid": 102100,
   "latestWkid": 3857
  }
 },
 "initialExtent": {
  "xmin": -5378213.377900001,
  "ymin": -1817964.0052000005,
  "xmax": -5257904.377900001,
  "ymax": -1736574.0052000005,
  "spatialReference": {
   "wkid": 102100,
   "latestWkid": 3857
  }
 },
 "fullExtent": {
  "xmin": -5378213.377900001,
  "ymin": -1817964.0052000005,
  "xmax": -5257904.377900001,
  "ymax": -1736574.0052000005,
  "spatialReference": {
   "wkid": 102100,
   "latestWkid": 3857
  }
 },
 "pixelSizeX": 3,
 "pixelSizeY": 3,
 "bandCount": 4,
 "pixelType": "U16",
 "minPixelSize": 0.06614596562526459,
 "maxPixelSize": 305.74811314055756,
 "copyrightText": "",
 "serviceDataType": "esriImageServiceDataTypeGeneric",
 "minValues": [
  1,
  1,
  1,
  128
 ],
 "maxValues": [
  12122,
  8545,
  13320,
  24038
 ],
 "meanValues": [
  584.2390834896271,
  795.0507058746763,
  1071.6336608222584,
  2533.629591131241
 ],
 "stdvValues": [
  262.0809069217829,
  309.38362190836733,
  450.79978970765563,
  1609.577244188636
 ],
 "objectIdField": "OBJECTID",
 "fields": [
  {
   "name": "OBJECTID",
   "type": "esriFieldTypeOID",
   "alias": "OBJECTID",
   "domain": null
  },
  {
   "name": "Shape",
   "type": "esriFieldTypeGeometry",
   "alias": "Shape",
   "domain": null
  },
  {
   "name": "Name",
   "type": "esriFieldTypeString",
   "alias": "Name",
   "domain": null,
   "length": 200
  },
  {
   "name": "MinPS",
   "type": "esriFieldTypeDouble",
   "alias": "MinPS",
   "domain": null
  },
  {
   "name": "MaxPS",
   "type": "esriFieldTypeDouble",
   "alias": "MaxPS",
   "domain": null
  },
  {
   "name": "LowPS",
   "type": "esriFieldTypeDouble",
   "alias": "LowPS",
   "domain": null
  },
  {
   "name": "HighPS",
   "type": "esriFieldTypeDouble",
   "alias": "HighPS",
   "domain": null
  },
  {
   "name": "Category",
   "type": "esriFieldTypeInteger",
   "alias": "Category",
   "domain": {
    "type": "codedValue",
    "name": "MosaicCatalogItemCategoryDomain",
    "description": "Catalog item categories.",
    "codedValues": [
     {
      "name": "Unknown",
      "code": 0
     },
     {
      "name": "Primary",
      "code": 1
     },
     {
      "name": "Overview",
      "code": 2
     },
     {
      "name": "Unprocessed Overview",
      "code": 3
     },
     {
      "name": "Partial Overview",
      "code": 4
     },
     {
      "name": "Inactive",
      "code": 5
     },
     {
      "name": "Uploaded",
      "code": 253
     },
     {
      "name": "Incomplete",
      "code": 254
     },
     {
      "name": "Custom",
      "code": 255
     }
    ],
    "mergePolicy": "esriMPTDefaultValue",
    "splitPolicy": "esriSPTDefaultValue"
   }
  },
  {
   "name": "Tag",
   "type": "esriFieldTypeString",
   "alias": "Tag",
   "domain": null,
   "length": 100
  },
  {
   "name": "GroupName",
   "type": "esriFieldTypeString",
   "alias": "GroupName",
   "domain": null,
   "length": 100
  },
  {
   "name": "ProductName",
   "type": "esriFieldTypeString",
   "alias": "ProductName",
   "domain": null,
   "length": 100
  },
  {
   "name": "CenterX",
   "type": "esriFieldTypeDouble",
   "alias": "CenterX",
   "domain": null
  },
  {
   "name": "CenterY",
   "type": "esriFieldTypeDouble",
   "alias": "CenterY",
   "domain": null
  },
  {
   "name": "ZOrder",
   "type": "esriFieldTypeInteger",
   "alias": "ZOrder",
   "domain": null
  },
  {
   "name": "Shape_Length",
   "type": "esriFieldTypeDouble",
   "alias": "Shape_Length",
   "domain": null
  },
  {
   "name": "Shape_Area",
   "type": "esriFieldTypeDouble",
   "alias": "Shape_Area",
   "domain": null
  }
 ],
 "capabilities": "Catalog,Image,Metadata",
 "defaultMosaicMethod": "Northwest",
 "allowedMosaicMethods": "NorthWest,Center,LockRaster,ByAttribute,Nadir,Viewpoint,Seamline,None",
 "sortField": "",
 "sortValue": null,
 "sortAscending": true,
 "mosaicOperator": "First",
 "maxDownloadSizeLimit": 2048,
 "defaultCompressionQuality": 75,
 "defaultResamplingMethod": "Bilinear",
 "maxImageHeight": 4100,
 "maxImageWidth": 15000,
 "maxRecordCount": 1000,
 "maxDownloadImageCount": 20,
 "maxMosaicImageCount": 20,
 "singleFusedMapCache": true,
 "tileInfo": {
  "rows": 256,
  "cols": 256,
  "dpi": 96,
  "format": "MIXED",
  "compressionQuality": 75,
  "origin": {
   "x": -2.0037508342787E7,
   "y": 2.0037508342787E7
  },
  "spatialReference": {
   "wkid": 102100,
   "latestWkid": 3857
  },
  "lods": [
   {
    "level": 0,
    "resolution": 305.74811314055756,
    "scale": 1155581.108577
   },
   {
    "level": 1,
    "resolution": 152.87405657041106,
    "scale": 577790.554289
   },
   {
    "level": 2,
    "resolution": 76.43702828507324,
    "scale": 288895.277144
   },
   {
    "level": 3,
    "resolution": 38.21851414253662,
    "scale": 144447.638572
   },
   {
    "level": 4,
    "resolution": 19.10925707126831,
    "scale": 72223.819286
   },
   {
    "level": 5,
    "resolution": 9.554628535634155,
    "scale": 36111.909643
   },
   {
    "level": 6,
    "resolution": 4.77731426794937,
    "scale": 18055.954822
   },
   {
    "level": 7,
    "resolution": 2.388657133974685,
    "scale": 9027.977411
   },
   {
    "level": 8,
    "resolution": 1.1943285668550503,
    "scale": 4513.988705
   },
   {
    "level": 9,
    "resolution": 0.5971642835598172,
    "scale": 2256.994353
   },
   {
    "level": 10,
    "resolution": 0.29858214164761665,
    "scale": 1128.497176
   },
   {
    "level": 11,
    "resolution": 0.14929107082380833,
    "scale": 564.248588
   },
   {
    "level": 12,
    "resolution": 0.07464553541190416,
    "scale": 282.124294
   }
  ]
 },
 "cacheType": "Map",
 "allowRasterFunction": true,
 "rasterFunctionInfos": [
  {
   "name": "None",
   "description": "A No-Op Function.",
   "help": ""
  }
 ],
 "rasterTypeInfos": [
  {
   "name": "Raster Dataset",
   "description": "Supports all ArcGIS Raster Datasets",
   "help": ""
  }
 ],
 "mensurationCapabilities": "None",
 "hasHistograms": true,
 "hasColormap": false,
 "hasRasterAttributeTable": false,
 "minScale": 1155581.108577,
 "maxScale": 250,
 "minLOD": 0,
 "maxLOD": 12,
 "exportTilesAllowed": false,
 "hasMultidimensions": false,
 "supportsStatistics": true,
 "supportsAdvancedQueries": true,
 "editFieldsInfo": null,
 "ownershipBasedAccessControlForRasters": null,
 "allowComputeTiePoints": false,
 "useStandardizedQueries": true,
 "advancedQueryCapabilities": {
  "useStandardizedQueries": true,
  "supportsStatistics": true,
  "supportsOrderBy": true,
  "supportsDistinct": true,
  "supportsPagination": true
 },
 "spatialReference": {
  "wkid": 102100,
  "latestWkid": 3857
 }
}
